BEGIN:VCALENDAR
VERSION:2.0
PRODID:-//Judo Manitoba - ECPv6.15.20//NONSGML v1.0//EN
CALSCALE:GREGORIAN
METHOD:PUBLISH
X-WR-CALNAME:Judo Manitoba
X-ORIGINAL-URL:https://judomanitoba.mb.ca
X-WR-CALDESC:Events for Judo Manitoba
REFRESH-INTERVAL;VALUE=DURATION:PT1H
X-Robots-Tag:noindex
X-PUBLISHED-TTL:PT1H
BEGIN:VTIMEZONE
TZID:America/Winnipeg
BEGIN:DAYLIGHT
TZOFFSETFROM:-0600
TZOFFSETTO:-0500
TZNAME:CDT
DTSTART:20240310T080000
END:DAYLIGHT
BEGIN:STANDARD
TZOFFSETFROM:-0500
TZOFFSETTO:-0600
TZNAME:CST
DTSTART:20241103T070000
END:STANDARD
BEGIN:DAYLIGHT
TZOFFSETFROM:-0600
TZOFFSETTO:-0500
TZNAME:CDT
DTSTART:20250309T080000
END:DAYLIGHT
BEGIN:STANDARD
TZOFFSETFROM:-0500
TZOFFSETTO:-0600
TZNAME:CST
DTSTART:20251102T070000
END:STANDARD
BEGIN:DAYLIGHT
TZOFFSETFROM:-0600
TZOFFSETTO:-0500
TZNAME:CDT
DTSTART:20260308T080000
END:DAYLIGHT
BEGIN:STANDARD
TZOFFSETFROM:-0500
TZOFFSETTO:-0600
TZNAME:CST
DTSTART:20261101T070000
END:STANDARD
END:VTIMEZONE
BEGIN:VEVENT
DTSTART;VALUE=DATE:20251031
DTEND;VALUE=DATE:20251103
DTSTAMP:20260423T173349
CREATED:20250819T022937Z
LAST-MODIFIED:20251019T194905Z
UID:2432-1761868800-1762127999@judomanitoba.mb.ca
SUMMARY:2025 Manitoba Open
DESCRIPTION:Technical Package and registration: https://registration.judocanada.org/event/2025-manitoba-open/1003486/. \nVolunteer registration: https://registration.judocanada.org/event/2025-manitoba-open-volunteer-sign-up/1003504/.
URL:https://judomanitoba.mb.ca/event/2025-manitoba-open/
LOCATION:Dakota Fieldhouse\, 1188 Dakota Street\, Winnipeg\, MB\, R2N 3H4\, Canada
END:VEVENT
BEGIN:VEVENT
DTSTART;TZID=America/Winnipeg:20251031T090000
DTEND;TZID=America/Winnipeg:20251031T150000
DTSTAMP:20260423T173349
CREATED:20250922T231809Z
LAST-MODIFIED:20250922T231839Z
UID:2466-1761901200-1761922800@judomanitoba.mb.ca
SUMMARY:Kimi-no-Kata Seminar
DESCRIPTION:There will be a Kimi-no-Kata Seminar on October 31\, 2025 from 9:00 am to 3:00 pm. To register\, follow this link: https://registration.judocanada.org/event/2025-manitoba-open-kimi-no-kata/1003492/\n\nPresenter: Mr. Gordon Okamura\nLocation: Manitoba Provincial Training Center 439 McPhillips St. Winnipeg\, MB\nClinic Fee: $50.00 participant\nMinimum Rank: White belt
URL:https://judomanitoba.mb.ca/event/kimi-no-kata/
LOCATION:Provincial Training Centre\, 439 McPhillips St.\, Winnipeg\, Manitoba\, R2X2Z8\, Canada
END:VEVENT
END:VCALENDAR