BEGIN:VCALENDAR
VERSION:2.0
PRODID:-//Judo Manitoba - ECPv6.15.20//NONSGML v1.0//EN
CALSCALE:GREGORIAN
METHOD:PUBLISH
X-ORIGINAL-URL:https://judomanitoba.mb.ca
X-WR-CALDESC:Events for Judo Manitoba
REFRESH-INTERVAL;VALUE=DURATION:PT1H
X-Robots-Tag:noindex
X-PUBLISHED-TTL:PT1H
BEGIN:VTIMEZONE
TZID:America/Winnipeg
BEGIN:DAYLIGHT
TZOFFSETFROM:-0600
TZOFFSETTO:-0500
TZNAME:CDT
DTSTART:20240310T080000
END:DAYLIGHT
BEGIN:STANDARD
TZOFFSETFROM:-0500
TZOFFSETTO:-0600
TZNAME:CST
DTSTART:20241103T070000
END:STANDARD
BEGIN:DAYLIGHT
TZOFFSETFROM:-0600
TZOFFSETTO:-0500
TZNAME:CDT
DTSTART:20250309T080000
END:DAYLIGHT
BEGIN:STANDARD
TZOFFSETFROM:-0500
TZOFFSETTO:-0600
TZNAME:CST
DTSTART:20251102T070000
END:STANDARD
BEGIN:DAYLIGHT
TZOFFSETFROM:-0600
TZOFFSETTO:-0500
TZNAME:CDT
DTSTART:20260308T080000
END:DAYLIGHT
BEGIN:STANDARD
TZOFFSETFROM:-0500
TZOFFSETTO:-0600
TZNAME:CST
DTSTART:20261101T070000
END:STANDARD
END:VTIMEZONE
BEGIN:VEVENT
DTSTART;VALUE=DATE:20251122
DTEND;VALUE=DATE:20251123
DTSTAMP:20260423T173454
CREATED:20250924T215509Z
LAST-MODIFIED:20251031T025600Z
UID:2506-1763769600-1763855999@judomanitoba.mb.ca
SUMMARY:St. Boniface Judo Club/Manitoba Provincials Tournament
DESCRIPTION:Technical Package and registration: https://registration.judocanada.org/event/2025-st-boniface-judo-club-open-manitoba-provincials/1003603/ \nReferee registration: https://registration.judocanada.org/event/referee-registration-2025-st-boniface-judo-club-open-manitoba-provincials/1003604/
URL:https://judomanitoba.mb.ca/event/st-boniface-judo-club-manitoba-provincials-tournament/
LOCATION:Churchill High School\, 510 Hay St.\, Winnipeg\, MB\, R3L2L6\, Canada
END:VEVENT
END:VCALENDAR