BEGIN:VCALENDAR
VERSION:2.0
PRODID:-//Judo Manitoba - ECPv6.15.20//NONSGML v1.0//EN
CALSCALE:GREGORIAN
METHOD:PUBLISH
X-ORIGINAL-URL:https://judomanitoba.mb.ca
X-WR-CALDESC:Events for Judo Manitoba
REFRESH-INTERVAL;VALUE=DURATION:PT1H
X-Robots-Tag:noindex
X-PUBLISHED-TTL:PT1H
BEGIN:VTIMEZONE
TZID:America/Winnipeg
BEGIN:DAYLIGHT
TZOFFSETFROM:-0600
TZOFFSETTO:-0500
TZNAME:CDT
DTSTART:20240310T080000
END:DAYLIGHT
BEGIN:STANDARD
TZOFFSETFROM:-0500
TZOFFSETTO:-0600
TZNAME:CST
DTSTART:20241103T070000
END:STANDARD
BEGIN:DAYLIGHT
TZOFFSETFROM:-0600
TZOFFSETTO:-0500
TZNAME:CDT
DTSTART:20250309T080000
END:DAYLIGHT
BEGIN:STANDARD
TZOFFSETFROM:-0500
TZOFFSETTO:-0600
TZNAME:CST
DTSTART:20251102T070000
END:STANDARD
BEGIN:DAYLIGHT
TZOFFSETFROM:-0600
TZOFFSETTO:-0500
TZNAME:CDT
DTSTART:20260308T080000
END:DAYLIGHT
BEGIN:STANDARD
TZOFFSETFROM:-0500
TZOFFSETTO:-0600
TZNAME:CST
DTSTART:20261101T070000
END:STANDARD
END:VTIMEZONE
BEGIN:VEVENT
DTSTART;VALUE=DATE:20250307
DTEND;VALUE=DATE:20250310
DTSTAMP:20260425T102651
CREATED:20241127T000312Z
LAST-MODIFIED:20241127T000312Z
UID:2246-1741305600-1741564799@judomanitoba.mb.ca
SUMMARY:2025 Edmonton International Judo & Kata Championship
DESCRIPTION:Tournament web page.
URL:https://judomanitoba.mb.ca/event/2025-edmonton-international-judo-kata-championship/
LOCATION:Edmonton\, AB\, Edmonton\, Alberta\, Canada
CATEGORIES:Tournaments
END:VEVENT
BEGIN:VEVENT
DTSTART;VALUE=DATE:20250329
DTEND;VALUE=DATE:20250330
DTSTAMP:20260425T102651
CREATED:20241127T000356Z
LAST-MODIFIED:20250305T184452Z
UID:2248-1743206400-1743292799@judomanitoba.mb.ca
SUMMARY:2025 Balmoral Tournament
DESCRIPTION:This is a pre-registration tournament.\nRegistration deadline: March 26\, 2025.\n$40 for 1st division; $20 for 2nd division. \nCoaches\, please send U10 and U12 names and weights (in kg.) to the tournament director by end of day Thursday\, March 27th. \nAthlete registration\nReferee registration \nFull technical package
URL:https://judomanitoba.mb.ca/event/2025-balmoral-tournament/
LOCATION:Stonewall Collegiate\, 297 5 St W\, Stonewall\, MB\, R0C 2Z0\, Canada
CATEGORIES:Tournaments
ORGANIZER;CN="Balmoral Judo Club":MAILTO:mgood@shaw.ca
END:VEVENT
BEGIN:VEVENT
DTSTART;VALUE=DATE:20250419
DTEND;VALUE=DATE:20250420
DTSTAMP:20260425T102651
CREATED:20241127T000445Z
LAST-MODIFIED:20250326T233159Z
UID:2250-1745020800-1745107199@judomanitoba.mb.ca
SUMMARY:2025 Portage Tournament
DESCRIPTION:Tournament Venue\nCentral Plains Recplex\n75 Centennaire Dr\nSouthport\, MB \nRegistration\nThis tournament is pre-registration only. \nRegistration Opens: March 24\, 2025\nRegistration Closes: April 15\, 2024 \nReferees\nOpen to all levels of referee including beginners.\nReferee Registration (via Trackie) \nAthletes\nAthlete Registration (all athletes) \n\nAthletes must have a valid Judo Canada membership.\nAthletes may compete in up to two regular divisions if eligible.\nAll competitors except for U10 and U12 must be present at the weigh-in.\nNew Requirement for 2024/2025 Judo Season: U10 and U12 athletes must check in at the weigh-in table. A Parent\, Guardian\, or Coach must attest to the accuracy of the weight which has been provided by the club coach.\n\nCoaches\, please send U10 and U12 weights in kg. and names to the tournament director by\nend of day Thursday\, April 11. \nRegistration Fees\n$40 for the first division\n$20 for a second division\nFees are payable by cheque or cash at the time of weigh-in. \nFull technical package
URL:https://judomanitoba.mb.ca/event/2025-portage-tournament/
LOCATION:Central Plains Recplex\, 75 Centennaire Drive\, Southport\, Manitoba\, Canada
CATEGORIES:Tournaments
END:VEVENT
BEGIN:VEVENT
DTSTART;VALUE=DATE:20250503
DTEND;VALUE=DATE:20250504
DTSTAMP:20260425T102651
CREATED:20241127T000525Z
LAST-MODIFIED:20250331T154352Z
UID:2252-1746230400-1746316799@judomanitoba.mb.ca
SUMMARY:2025 Nakamura Tournament
DESCRIPTION:Venue\nWest Kildonan collegiate\n101 Ridgecrest Ave\, Winnipeg\, MB R2V 4T6 \nRegistration\nAthletes\nThis tournament is pre-registration only. \nOnline registration for all athletes \n\nAthletes must have a valid Judo Canada membership\nAthletes may compete in up to two regular divisions if eligible\nAll competitors except for U10 and U12 must be present at the weigh-in\nNew Requirement for 2024/2025 Judo Season: U10 and U12 athletes must check in at the weigh-in table. A Parent\, Guardian\, or Coach must attest to the accuracy of the weight which has been provided by the club coach\nCoaches\, please send U10 and U12 names and weights in kg. to the tournament director by end of day Thursday\, May 1st.\n\nRegistration fees\nBefore April 25\, 2025: \n\n$40 for the first division\n$20 for a second division\n\nApril 25–30\, 2025: \n\n$50 for the first division\n$20 for a second division\n\nReferees\nThis tournament is open to all levels of referee\, including beginners. This will be a learning experience for junior referees. All referees should just arrive with a white polo shirt and dark pants. For this tournament\, suits are optional! \nReferee Registration \nFull technical package
URL:https://judomanitoba.mb.ca/event/2025-nakamura-tournament/
LOCATION:West Kildonan Collegiate\, 101 Ridgecrest Avenue\, Winnipeg\, MB\, R2V 4T6\, Canada
CATEGORIES:Tournaments
END:VEVENT
BEGIN:VEVENT
DTSTART;VALUE=DATE:20250516
DTEND;VALUE=DATE:20250519
DTSTAMP:20260425T102651
CREATED:20241127T000824Z
LAST-MODIFIED:20241127T000824Z
UID:2254-1747353600-1747612799@judomanitoba.mb.ca
SUMMARY:2025 Canadian Nationals
DESCRIPTION:Tournament website.
URL:https://judomanitoba.mb.ca/event/2025-canadian-nationals/
LOCATION:Calgary\, AB\, Calgary\, AB\, Canada
CATEGORIES:Tournaments
END:VEVENT
END:VCALENDAR