BEGIN:VCALENDAR
VERSION:2.0
PRODID:-//Judo Manitoba - ECPv6.15.20//NONSGML v1.0//EN
CALSCALE:GREGORIAN
METHOD:PUBLISH
X-ORIGINAL-URL:https://judomanitoba.mb.ca
X-WR-CALDESC:Events for Judo Manitoba
REFRESH-INTERVAL;VALUE=DURATION:PT1H
X-Robots-Tag:noindex
X-PUBLISHED-TTL:PT1H
BEGIN:VTIMEZONE
TZID:America/Winnipeg
BEGIN:DAYLIGHT
TZOFFSETFROM:-0600
TZOFFSETTO:-0500
TZNAME:CDT
DTSTART:20190310T080000
END:DAYLIGHT
BEGIN:STANDARD
TZOFFSETFROM:-0500
TZOFFSETTO:-0600
TZNAME:CST
DTSTART:20191103T070000
END:STANDARD
BEGIN:DAYLIGHT
TZOFFSETFROM:-0600
TZOFFSETTO:-0500
TZNAME:CDT
DTSTART:20200308T080000
END:DAYLIGHT
BEGIN:STANDARD
TZOFFSETFROM:-0500
TZOFFSETTO:-0600
TZNAME:CST
DTSTART:20201101T070000
END:STANDARD
BEGIN:DAYLIGHT
TZOFFSETFROM:-0600
TZOFFSETTO:-0500
TZNAME:CDT
DTSTART:20210314T080000
END:DAYLIGHT
BEGIN:STANDARD
TZOFFSETFROM:-0500
TZOFFSETTO:-0600
TZNAME:CST
DTSTART:20211107T070000
END:STANDARD
BEGIN:DAYLIGHT
TZOFFSETFROM:-0600
TZOFFSETTO:-0500
TZNAME:CDT
DTSTART:20220313T080000
END:DAYLIGHT
BEGIN:STANDARD
TZOFFSETFROM:-0500
TZOFFSETTO:-0600
TZNAME:CST
DTSTART:20221106T070000
END:STANDARD
BEGIN:DAYLIGHT
TZOFFSETFROM:-0600
TZOFFSETTO:-0500
TZNAME:CDT
DTSTART:20230312T080000
END:DAYLIGHT
BEGIN:STANDARD
TZOFFSETFROM:-0500
TZOFFSETTO:-0600
TZNAME:CST
DTSTART:20231105T070000
END:STANDARD
BEGIN:DAYLIGHT
TZOFFSETFROM:-0600
TZOFFSETTO:-0500
TZNAME:CDT
DTSTART:20240310T080000
END:DAYLIGHT
BEGIN:STANDARD
TZOFFSETFROM:-0500
TZOFFSETTO:-0600
TZNAME:CST
DTSTART:20241103T070000
END:STANDARD
END:VTIMEZONE
BEGIN:VEVENT
DTSTART;VALUE=DATE:20230802
DTEND;VALUE=DATE:20230804
DTSTAMP:20260423T192235
CREATED:20220708T122449Z
LAST-MODIFIED:20221102T182019Z
UID:1846-1690934400-1691107199@judomanitoba.mb.ca
SUMMARY:World Police & Fire Games 2023
DESCRIPTION:
URL:https://judomanitoba.mb.ca/event/world-police-fire-games-2023/
LOCATION:RBC Convention Centre\, 375 York Avenue\, Winnipeg\, Manitoba\, R3C 3J3\, Canada
CATEGORIES:Tournaments
END:VEVENT
BEGIN:VEVENT
DTSTART;VALUE=DATE:20230518
DTEND;VALUE=DATE:20230522
DTSTAMP:20260423T192235
CREATED:20221102T182405Z
LAST-MODIFIED:20221102T182405Z
UID:1917-1684368000-1684713599@judomanitoba.mb.ca
SUMMARY:Canadian Nationals
DESCRIPTION:More info to come.
URL:https://judomanitoba.mb.ca/event/canadian-nationals/
CATEGORIES:Tournaments
END:VEVENT
BEGIN:VEVENT
DTSTART;VALUE=DATE:20230422
DTEND;VALUE=DATE:20230423
DTSTAMP:20260423T192235
CREATED:20221102T182235Z
LAST-MODIFIED:20230320T171153Z
UID:1915-1682121600-1682207999@judomanitoba.mb.ca
SUMMARY:Portage Open
DESCRIPTION:The 2023 Portage Judo Club Open is being held on April 22nd  at the BDO Community Centre in Portage la Prairie. \nAll pertinent information is in the Technical Package so please review it carefully. \nRegistration is now open so please register at your earliest convenience using the following Trackie link  https://www.trackie.com/online-registration/register/2023-portage-la-prairie-open-judo-tournament/487384/ \n2023 Portage Open Technical Package \n 
URL:https://judomanitoba.mb.ca/event/portage-open/
LOCATION:BDO Centre for the Community\, 390 1st Street N.W.\, Portage la Prarie\, Manitoba\, Canada
CATEGORIES:Tournaments
ORGANIZER;CN="Portage Judo Club":MAILTO:bp6265c@inetlink.ca
END:VEVENT
BEGIN:VEVENT
DTSTART;VALUE=DATE:20230325
DTEND;VALUE=DATE:20230326
DTSTAMP:20260423T192235
CREATED:20221102T182147Z
LAST-MODIFIED:20230310T170343Z
UID:1913-1679702400-1679788799@judomanitoba.mb.ca
SUMMARY:Balmoral Open
DESCRIPTION:The 2023 Balmoral Open Tournament is pleased to return on March 25th  at Stonewall Collegiate in Stonewall Manitoba. \nAll pertinent information is in the Technical Package so please review it carefully. \nRegistration is now open so please register at your earliest convenience using the following Trackie link:  https://www.trackie.com/online-registration/register/2023-balmoral-open-judo-tournament/486609/ \nTechnical Package
URL:https://judomanitoba.mb.ca/event/balmoral-open/
LOCATION:Stonewall Collegiate\, 297 5 St W\, Stonewall\, MB\, R0C 2Z0\, Canada
CATEGORIES:Tournaments
ORGANIZER;CN="Balmoral Judo Club":MAILTO:mgood@shaw.ca
END:VEVENT
BEGIN:VEVENT
DTSTART;VALUE=DATE:20230311
DTEND;VALUE=DATE:20230313
DTSTAMP:20260423T192235
CREATED:20221102T182105Z
LAST-MODIFIED:20221102T182105Z
UID:1911-1678492800-1678665599@judomanitoba.mb.ca
SUMMARY:Edmonton International
DESCRIPTION:More info to come.
URL:https://judomanitoba.mb.ca/event/edmonton-international-2/
CATEGORIES:Tournaments
END:VEVENT
BEGIN:VEVENT
DTSTART;VALUE=DATE:20230227
DTEND;VALUE=DATE:20230305
DTSTAMP:20260423T192235
CREATED:20221102T181951Z
LAST-MODIFIED:20221102T181951Z
UID:1909-1677456000-1677974399@judomanitoba.mb.ca
SUMMARY:Canada Winter Games
DESCRIPTION:More info to come.
URL:https://judomanitoba.mb.ca/event/canada-winter-games/
CATEGORIES:Tournaments
END:VEVENT
BEGIN:VEVENT
DTSTART;VALUE=DATE:20230204
DTEND;VALUE=DATE:20230205
DTSTAMP:20260423T192235
CREATED:20221102T181853Z
LAST-MODIFIED:20230126T230307Z
UID:1907-1675468800-1675555199@judomanitoba.mb.ca
SUMMARY:Inner City Open
DESCRIPTION:Tournament Package: Inner City Tournament Package 2023 \nNote\nIn response to feedback from our Judo Manitoba community and in conjunction with the organizing committee\, it has been decided to adjust weigh-ins for the Inner City Judo Tournament on Saturday Feb 4 at Churchill High School. \nFor U10 & U12 athletes:\nClub Coaches\, please weigh and provide a list of athletes and their weights to the tournament IT Manager\, James.colp@outlook.com no later than Friday February 3rd 8:00pm. We ask that U10/U12 athletes still also register through Trackie. \nFor Senior/Veteran/U21/U18/U16/U14 athletes: \nWeigh-in is now offered during the following times: \n\nFriday Evening Feb 3rd between 6:00 – 8:30 pm\nSaturday Morning Feb 4th between 7:30 – 9:00 am\n\nExtended Pre-Registration:\nAs situations may have now changed\, for your convenience: required pre-registration through Trackie has been extended to January 30th at Midnight. \nPlease see the tournament package with these updated changes.
URL:https://judomanitoba.mb.ca/event/inner-city-open/
LOCATION:Churchill High School\, 510 Hay St.\, Winnipeg\, MB\, R3L2L6\, Canada
CATEGORIES:Tournaments
ORGANIZER;CN="Inner City Judo Club":MAILTO:garysova81@gmail.com
END:VEVENT
BEGIN:VEVENT
DTSTART;VALUE=DATE:20230127
DTEND;VALUE=DATE:20230130
DTSTAMP:20260423T192235
CREATED:20221102T181802Z
LAST-MODIFIED:20221102T182019Z
UID:1905-1674777600-1675036799@judomanitoba.mb.ca
SUMMARY:Pacific International
DESCRIPTION:More info to come.
URL:https://judomanitoba.mb.ca/event/pacific-international/
CATEGORIES:Tournaments
END:VEVENT
BEGIN:VEVENT
DTSTART;VALUE=DATE:20230121
DTEND;VALUE=DATE:20230123
DTSTAMP:20260423T192235
CREATED:20221102T181620Z
LAST-MODIFIED:20221226T174951Z
UID:1902-1674259200-1674431999@judomanitoba.mb.ca
SUMMARY:Saskatchewan Open
DESCRIPTION:Full tournament package \nRegistration links: \nAthlete \nCoach \nReferee
URL:https://judomanitoba.mb.ca/event/saskatchewan-open/
CATEGORIES:Tournaments
END:VEVENT
BEGIN:VEVENT
DTSTART;VALUE=DATE:20221211
DTEND;VALUE=DATE:20221212
DTSTAMP:20260423T192235
CREATED:20221102T180933Z
LAST-MODIFIED:20221102T181134Z
UID:1888-1670716800-1670803199@judomanitoba.mb.ca
SUMMARY:2022 Manitoba Provincials
DESCRIPTION:2022 Manitoba Provincials Tournament Package \nEntry Fee: $40.00 all categories \nWeigh In: Sunday December 11th\, 9:00–10:00 a.m. \nPreliminaries begin at approximately 11:30 a.m. \nPlease Note: \n\nMust be a minimum of yellow belt to compete\nThe tournament director reserves the right to combine categories where there are insufficient entries\nAll categories will be fought in a true double knockout format\nNo Canteen available\nIJF rules will be applied. The following exceptions will be used:\n\nShime-waza and Kansetsu-waza are not allowed for U14 divisions\nKansetsu-waza are not allowed for the U16 divisions\nIJF rules in the U16 age division and up\nThere will be no Golden Score in the U14 divisions\n\n\nEach club should provide one referee for every 10 entrants or less\nChief Referee: TBD\nTournament director: Milton Good\nFight-offs for Canada Winter Games selection will also be held after the Provincials\nSenior Men and Women Advanced will be Brown and Black belt only; all other divisions\, including Senior Men and Women novice\, will be mixed belt of blue belt and lower.\n\nFor more information contact Milton Good at 204-467-8854 or mgood@shaw.ca.
URL:https://judomanitoba.mb.ca/event/2022-manitoba-provincials/
LOCATION:Sport Manitoba Sports Complex\, 145 Pacific Ave\, Winnipeg\, Manitoba\, Canada
CATEGORIES:Tournaments
END:VEVENT
BEGIN:VEVENT
DTSTART;VALUE=DATE:20221210
DTEND;VALUE=DATE:20221212
DTSTAMP:20260423T192235
CREATED:20221102T181543Z
LAST-MODIFIED:20221102T181543Z
UID:1900-1670630400-1670803199@judomanitoba.mb.ca
SUMMARY:Edmonton Elite Nats. & IBSA PANAM
DESCRIPTION:More info to come.
URL:https://judomanitoba.mb.ca/event/edmonton-elite-nats-ibsa-panam/
CATEGORIES:Tournaments
END:VEVENT
BEGIN:VEVENT
DTSTART;VALUE=DATE:20221112
DTEND;VALUE=DATE:20221114
DTSTAMP:20260423T192235
CREATED:20221102T181409Z
LAST-MODIFIED:20221102T181409Z
UID:1896-1668211200-1668383999@judomanitoba.mb.ca
SUMMARY:Ontario Open
DESCRIPTION:More info to come.
URL:https://judomanitoba.mb.ca/event/ontario-open/
CATEGORIES:Tournaments
END:VEVENT
BEGIN:VEVENT
DTSTART;VALUE=DATE:20221105
DTEND;VALUE=DATE:20221107
DTSTAMP:20260423T192235
CREATED:20221102T181333Z
LAST-MODIFIED:20221102T181333Z
UID:1894-1667606400-1667779199@judomanitoba.mb.ca
SUMMARY:Quebec Open
DESCRIPTION:More info to come.
URL:https://judomanitoba.mb.ca/event/quebec-open/
CATEGORIES:Tournaments
END:VEVENT
BEGIN:VEVENT
DTSTART;VALUE=DATE:20221015
DTEND;VALUE=DATE:20221017
DTSTAMP:20260423T192235
CREATED:20220302T231558Z
LAST-MODIFIED:20220921T204212Z
UID:1787-1665792000-1665964799@judomanitoba.mb.ca
SUMMARY:Manitoba Open 2022
DESCRIPTION:The Manitoba Open tournament will take place October 15 – 16\, 2022. This is a rescheduled tournament. \nInformation on the Manitoba Open. \nThis is a complementary event for spectators. Please see our schedule below as well as the link to the Dakota Community Centre https://dakotacc.com/ for more information on the location. \n  \n\n\n\nSaturday\, Oct 15\, 2022\n\n\n8:00\nKata Competition Starts\nDakota Community Center\n\n\n10:00\nCompetition Starts \nU14 and Newaza\nDakota Community Center\n\n\n12:00\nCompetition Starts \nU18\, U21 and Veterans\nDakota Community Center\n\n\n\n  \n\n\n\nSunday\, Oct 16\, 2022\n\n\n9:00\nCompetition Starts \nU16 and Senior\nDakota Community Center\n\n\n\nThe Kata Competition will feature high level athletes performing Kata at the competition level. \nThe regular competition will include top level athletes in the various age categories competing in Judo with athletes from across the country. \nManitoba Open Technical Package \nManitoba Open Kata Seminar – Ju no kata and Itsutsu no kata \n  \n 
URL:https://judomanitoba.mb.ca/event/manitoba-open-2022/
CATEGORIES:Tournaments
ATTACH;FMTTYPE=image/jpeg:https://judomanitoba.mb.ca/wp-content/uploads/2022/03/VMmBoU.jpg
END:VEVENT
BEGIN:VEVENT
DTSTART;VALUE=DATE:20211127
DTEND;VALUE=DATE:20211128
DTSTAMP:20260423T192235
CREATED:20211027T175829Z
LAST-MODIFIED:20211027T175829Z
UID:1685-1637971200-1637971200@judomanitoba.mb.ca
SUMMARY:St Boniface Judo 25th Anniversary Tournament
DESCRIPTION:University of Manitoba\, Frank Kennedy Centre (Brown Gym) \nWe are excited to invite you to the St. Boniface Open. It will be great to see the Manitoba\njudo family at our first event since 2020! \nAll entries $40.00\n2nd category $30.00 \nTournament Director: Cole Hunt\nPh (204)–232-1771 \nHead Referee: Milton Good \nOfficials/Referees: There will be an Officials/Referees meeting Friday November 26th 7:00-8:30 pm – attendance is very important as this tournament will be featuring new electronic equipment requiring some orientation for officials and referees. \nFor full details\, please read the Technical Package. \nPre-registration is required; register here.
URL:https://judomanitoba.mb.ca/event/st-boniface-judo-25th-anniversary-tournament/
LOCATION:University of Manitoba\, University of Manitoba room 136\, Winnipeg\, Manitoba\, Canada
CATEGORIES:Tournaments
END:VEVENT
BEGIN:VEVENT
DTSTART;VALUE=DATE:20200306
DTEND;VALUE=DATE:20200309
DTSTAMP:20260423T192235
CREATED:20190806T190748Z
LAST-MODIFIED:20190806T190748Z
UID:1124-1583452800-1583711999@judomanitoba.mb.ca
SUMMARY:Edmonton International
DESCRIPTION:
URL:https://judomanitoba.mb.ca/event/edmonton-international/
CATEGORIES:Tournaments
END:VEVENT
BEGIN:VEVENT
DTSTART;VALUE=DATE:20200222
DTEND;VALUE=DATE:20200223
DTSTAMP:20260423T192235
CREATED:20190922T145112Z
LAST-MODIFIED:20191115T175612Z
UID:1179-1582329600-1582415999@judomanitoba.mb.ca
SUMMARY:Manitoba Open
DESCRIPTION:Technical Package: ManitobaOpen_2020
URL:https://judomanitoba.mb.ca/event/manitoba-open-2/
CATEGORIES:Tournaments
END:VEVENT
BEGIN:VEVENT
DTSTART;VALUE=DATE:20200201
DTEND;VALUE=DATE:20200202
DTSTAMP:20260423T192235
CREATED:20190715T160041Z
LAST-MODIFIED:20191028T175712Z
UID:1061-1580515200-1580601599@judomanitoba.mb.ca
SUMMARY:Inner City Open
DESCRIPTION:Technical Package: InnerCityOpen_20200201_Final \nWaiver Form: 2020 Inner City Open Pre-Registration Waiver
URL:https://judomanitoba.mb.ca/event/inner-city-open-2/
LOCATION:Tec Voc High School\, 1555 Wall St.\, Winnipeg\, Manitoba\, R3E2S2\, Canada
CATEGORIES:Tournaments
ORGANIZER;CN="Inner City Judo Club":MAILTO:garysova81@gmail.com
END:VEVENT
BEGIN:VEVENT
DTSTART;VALUE=DATE:20200118
DTEND;VALUE=DATE:20200119
DTSTAMP:20260423T192235
CREATED:20191205T151523Z
LAST-MODIFIED:20191209T191341Z
UID:1239-1579305600-1579391999@judomanitoba.mb.ca
SUMMARY:Selkirk Open
DESCRIPTION:SelkirkOpen_20200118
URL:https://judomanitoba.mb.ca/event/selkirk-open/
LOCATION:Lord Selkirk High School\, 221 Mercy St\, Selkirk\, MB\, R1A2C8\, Canada
CATEGORIES:Tournaments
ORGANIZER;CN="Selkirk Judo Club":MAILTO:selkirkjudoclub@shaw.ca
END:VEVENT
END:VCALENDAR