BEGIN:VCALENDAR
VERSION:2.0
PRODID:-//Judo Manitoba - ECPv6.15.20//NONSGML v1.0//EN
CALSCALE:GREGORIAN
METHOD:PUBLISH
X-WR-CALNAME:Judo Manitoba
X-ORIGINAL-URL:https://judomanitoba.mb.ca
X-WR-CALDESC:Events for Judo Manitoba
REFRESH-INTERVAL;VALUE=DURATION:PT1H
X-Robots-Tag:noindex
X-PUBLISHED-TTL:PT1H
BEGIN:VTIMEZONE
TZID:America/Winnipeg
BEGIN:DAYLIGHT
TZOFFSETFROM:-0600
TZOFFSETTO:-0500
TZNAME:CDT
DTSTART:20220313T080000
END:DAYLIGHT
BEGIN:STANDARD
TZOFFSETFROM:-0500
TZOFFSETTO:-0600
TZNAME:CST
DTSTART:20221106T070000
END:STANDARD
BEGIN:DAYLIGHT
TZOFFSETFROM:-0600
TZOFFSETTO:-0500
TZNAME:CDT
DTSTART:20230312T080000
END:DAYLIGHT
BEGIN:STANDARD
TZOFFSETFROM:-0500
TZOFFSETTO:-0600
TZNAME:CST
DTSTART:20231105T070000
END:STANDARD
BEGIN:DAYLIGHT
TZOFFSETFROM:-0600
TZOFFSETTO:-0500
TZNAME:CDT
DTSTART:20240310T080000
END:DAYLIGHT
BEGIN:STANDARD
TZOFFSETFROM:-0500
TZOFFSETTO:-0600
TZNAME:CST
DTSTART:20241103T070000
END:STANDARD
BEGIN:DAYLIGHT
TZOFFSETFROM:-0600
TZOFFSETTO:-0500
TZNAME:CDT
DTSTART:20250309T080000
END:DAYLIGHT
BEGIN:STANDARD
TZOFFSETFROM:-0500
TZOFFSETTO:-0600
TZNAME:CST
DTSTART:20251102T070000
END:STANDARD
BEGIN:DAYLIGHT
TZOFFSETFROM:-0600
TZOFFSETTO:-0500
TZNAME:CDT
DTSTART:20260308T080000
END:DAYLIGHT
BEGIN:STANDARD
TZOFFSETFROM:-0500
TZOFFSETTO:-0600
TZNAME:CST
DTSTART:20261101T070000
END:STANDARD
END:VTIMEZONE
BEGIN:VEVENT
DTSTART;VALUE=DATE:20251031
DTEND;VALUE=DATE:20251103
DTSTAMP:20260423T153550
CREATED:20250819T022937Z
LAST-MODIFIED:20251019T194905Z
UID:2432-1761868800-1762127999@judomanitoba.mb.ca
SUMMARY:2025 Manitoba Open
DESCRIPTION:Technical Package and registration: https://registration.judocanada.org/event/2025-manitoba-open/1003486/. \nVolunteer registration: https://registration.judocanada.org/event/2025-manitoba-open-volunteer-sign-up/1003504/.
URL:https://judomanitoba.mb.ca/event/2025-manitoba-open/
LOCATION:Dakota Fieldhouse\, 1188 Dakota Street\, Winnipeg\, MB\, R2N 3H4\, Canada
END:VEVENT
BEGIN:VEVENT
DTSTART;TZID=America/Winnipeg:20251018T083000
DTEND;TZID=America/Winnipeg:20251019T163000
DTSTAMP:20260423T153550
CREATED:20250914T174440Z
LAST-MODIFIED:20250914T174440Z
UID:2460-1760776200-1760891400@judomanitoba.mb.ca
SUMMARY:Dojo Assistant Course
DESCRIPTION:Judo Manitoba will be holding a Dojo Assistant Course at the Provincial Training Centre on 439 McPhillips Street\, Winnipeg on October 18 from 8:30 am to 5:30 pm and October 19 from 9 am to 4:30 pm. The cost of the course is $285.\n\nPrerequisites: minimum age 16\, minimum rank green belt\, background check for those age 18+\, current Respect in Sport certification.\n\nPlease follow this link to register: https://thelocker.coach.ca/event/registration/13985. Registration deadline is October 10\, 2025.
URL:https://judomanitoba.mb.ca/event/dojo-assistant-course/
LOCATION:Provincial Training Centre\, 439 McPhillips St.\, Winnipeg\, Manitoba\, R2X2Z8\, Canada
END:VEVENT
BEGIN:VEVENT
DTSTART;TZID=America/Winnipeg:20250928T090000
DTEND;TZID=America/Winnipeg:20250928T120000
DTSTAMP:20260423T153550
CREATED:20250914T173754Z
LAST-MODIFIED:20250914T173754Z
UID:2458-1759050000-1759060800@judomanitoba.mb.ca
SUMMARY:Referee Training Session
DESCRIPTION:We will be holding a free referee training session on Sunday September 28 from 9am to 12pm at the Sport Manitoba Theatre in the lower level.\n\nThis session is open to all members of Judo Manitoba who are referees or may be interested in becoming a referee. The session will include a review of the updated the rules\, a video component to look at actual matches\, and an open discussion of the rules and how they are applied.\n\nIf you plan to attend\, please register by following the Trackie link here: https://registration.judocanada.org/event/referee-training/1003459/
URL:https://judomanitoba.mb.ca/event/referee-training-session/
LOCATION:Sport Manitoba Sports Complex\, 145 Pacific Ave\, Winnipeg\, Manitoba\, Canada
END:VEVENT
BEGIN:VEVENT
DTSTART;TZID=America/Winnipeg:20250608T120000
DTEND;TZID=America/Winnipeg:20250608T150000
DTSTAMP:20260423T153550
CREATED:20250508T172535Z
LAST-MODIFIED:20250508T172535Z
UID:2329-1749384000-1749394800@judomanitoba.mb.ca
SUMMARY:2025 Judo Manitoba AGM
DESCRIPTION:MANITOBA BLACK BELT ASSOCIATION 2025 ANNUAL GENERAL MEETING\nThe meeting is open to all paid members of Judo Manitoba\, 18 years and up regardless of belt level.\n\nTime:\nSunday\, June 8\, 2025 at 12:00 PM\n\nLocation:\nSport Manitoba Building\nLower Level Theatre\n145 Pacific Ave
URL:https://judomanitoba.mb.ca/event/2025-judo-manitoba-agm/
LOCATION:Sport Manitoba Sports Complex\, 145 Pacific Ave\, Winnipeg\, Manitoba\, Canada
CATEGORIES:Events
END:VEVENT
BEGIN:VEVENT
DTSTART;TZID=America/Winnipeg:20250525T090000
DTEND;TZID=America/Winnipeg:20250525T150000
DTSTAMP:20260423T153550
CREATED:20250508T172743Z
LAST-MODIFIED:20250508T172743Z
UID:2331-1748163600-1748185200@judomanitoba.mb.ca
SUMMARY:Nage-no-kata clinic
DESCRIPTION:Judo Manitoba will host a Nage-no-Kata Clinic for U16\, U18\, and U21 athletes on Sunday May 25\, 2025 from 9am – 3pm at the Provincial Training Centre.\n\nThe Clinic will be facilitated by Gary Robinson and Matthew Koss and is intended to introduce Kata to younger athletes with the intention of developing younger Kata teams for Judo Manitoba.\n\nRegistration is $25.00.\n\nPlease register following the link below.\n\nhttps://registration.judocanada.org/event/2025-nage-no-kata-clinic/1003201/
URL:https://judomanitoba.mb.ca/event/nage-no-kata-clinic/
LOCATION:Provincial Training Centre\, 439 McPhillips St.\, Winnipeg\, Manitoba\, R2X2Z8\, Canada
END:VEVENT
BEGIN:VEVENT
DTSTART;VALUE=DATE:20250516
DTEND;VALUE=DATE:20250519
DTSTAMP:20260423T153550
CREATED:20241127T000824Z
LAST-MODIFIED:20241127T000824Z
UID:2254-1747353600-1747612799@judomanitoba.mb.ca
SUMMARY:2025 Canadian Nationals
DESCRIPTION:Tournament website.
URL:https://judomanitoba.mb.ca/event/2025-canadian-nationals/
LOCATION:Calgary\, AB\, Calgary\, AB\, Canada
CATEGORIES:Tournaments
END:VEVENT
BEGIN:VEVENT
DTSTART;VALUE=DATE:20250503
DTEND;VALUE=DATE:20250504
DTSTAMP:20260423T153550
CREATED:20241127T000525Z
LAST-MODIFIED:20250331T154352Z
UID:2252-1746230400-1746316799@judomanitoba.mb.ca
SUMMARY:2025 Nakamura Tournament
DESCRIPTION:Venue\nWest Kildonan collegiate\n101 Ridgecrest Ave\, Winnipeg\, MB R2V 4T6 \nRegistration\nAthletes\nThis tournament is pre-registration only. \nOnline registration for all athletes \n\nAthletes must have a valid Judo Canada membership\nAthletes may compete in up to two regular divisions if eligible\nAll competitors except for U10 and U12 must be present at the weigh-in\nNew Requirement for 2024/2025 Judo Season: U10 and U12 athletes must check in at the weigh-in table. A Parent\, Guardian\, or Coach must attest to the accuracy of the weight which has been provided by the club coach\nCoaches\, please send U10 and U12 names and weights in kg. to the tournament director by end of day Thursday\, May 1st.\n\nRegistration fees\nBefore April 25\, 2025: \n\n$40 for the first division\n$20 for a second division\n\nApril 25–30\, 2025: \n\n$50 for the first division\n$20 for a second division\n\nReferees\nThis tournament is open to all levels of referee\, including beginners. This will be a learning experience for junior referees. All referees should just arrive with a white polo shirt and dark pants. For this tournament\, suits are optional! \nReferee Registration \nFull technical package
URL:https://judomanitoba.mb.ca/event/2025-nakamura-tournament/
LOCATION:West Kildonan Collegiate\, 101 Ridgecrest Avenue\, Winnipeg\, MB\, R2V 4T6\, Canada
CATEGORIES:Tournaments
END:VEVENT
BEGIN:VEVENT
DTSTART;VALUE=DATE:20250419
DTEND;VALUE=DATE:20250420
DTSTAMP:20260423T153550
CREATED:20241127T000445Z
LAST-MODIFIED:20250326T233159Z
UID:2250-1745020800-1745107199@judomanitoba.mb.ca
SUMMARY:2025 Portage Tournament
DESCRIPTION:Tournament Venue\nCentral Plains Recplex\n75 Centennaire Dr\nSouthport\, MB \nRegistration\nThis tournament is pre-registration only. \nRegistration Opens: March 24\, 2025\nRegistration Closes: April 15\, 2024 \nReferees\nOpen to all levels of referee including beginners.\nReferee Registration (via Trackie) \nAthletes\nAthlete Registration (all athletes) \n\nAthletes must have a valid Judo Canada membership.\nAthletes may compete in up to two regular divisions if eligible.\nAll competitors except for U10 and U12 must be present at the weigh-in.\nNew Requirement for 2024/2025 Judo Season: U10 and U12 athletes must check in at the weigh-in table. A Parent\, Guardian\, or Coach must attest to the accuracy of the weight which has been provided by the club coach.\n\nCoaches\, please send U10 and U12 weights in kg. and names to the tournament director by\nend of day Thursday\, April 11. \nRegistration Fees\n$40 for the first division\n$20 for a second division\nFees are payable by cheque or cash at the time of weigh-in. \nFull technical package
URL:https://judomanitoba.mb.ca/event/2025-portage-tournament/
LOCATION:Central Plains Recplex\, 75 Centennaire Drive\, Southport\, Manitoba\, Canada
CATEGORIES:Tournaments
END:VEVENT
BEGIN:VEVENT
DTSTART;VALUE=DATE:20250329
DTEND;VALUE=DATE:20250330
DTSTAMP:20260423T153550
CREATED:20241127T000356Z
LAST-MODIFIED:20250305T184452Z
UID:2248-1743206400-1743292799@judomanitoba.mb.ca
SUMMARY:2025 Balmoral Tournament
DESCRIPTION:This is a pre-registration tournament.\nRegistration deadline: March 26\, 2025.\n$40 for 1st division; $20 for 2nd division. \nCoaches\, please send U10 and U12 names and weights (in kg.) to the tournament director by end of day Thursday\, March 27th. \nAthlete registration\nReferee registration \nFull technical package
URL:https://judomanitoba.mb.ca/event/2025-balmoral-tournament/
LOCATION:Stonewall Collegiate\, 297 5 St W\, Stonewall\, MB\, R0C 2Z0\, Canada
CATEGORIES:Tournaments
ORGANIZER;CN="Balmoral Judo Club":MAILTO:mgood@shaw.ca
END:VEVENT
BEGIN:VEVENT
DTSTART;VALUE=DATE:20250307
DTEND;VALUE=DATE:20250310
DTSTAMP:20260423T153550
CREATED:20241127T000312Z
LAST-MODIFIED:20241127T000312Z
UID:2246-1741305600-1741564799@judomanitoba.mb.ca
SUMMARY:2025 Edmonton International Judo & Kata Championship
DESCRIPTION:Tournament web page.
URL:https://judomanitoba.mb.ca/event/2025-edmonton-international-judo-kata-championship/
LOCATION:Edmonton\, AB\, Edmonton\, Alberta\, Canada
CATEGORIES:Tournaments
END:VEVENT
BEGIN:VEVENT
DTSTART;VALUE=DATE:20250301
DTEND;VALUE=DATE:20250303
DTSTAMP:20260423T153550
CREATED:20241127T000118Z
LAST-MODIFIED:20241127T000118Z
UID:2243-1740787200-1740959999@judomanitoba.mb.ca
SUMMARY:2025 Pacific International Tournament
DESCRIPTION:Technical package to come.
URL:https://judomanitoba.mb.ca/event/2025-pacific-international-tournament/
LOCATION:Abbotsford\, BC\, Abbotsford\, BC\, Canada
CATEGORIES:Tournaments
END:VEVENT
BEGIN:VEVENT
DTSTART;VALUE=DATE:20250222
DTEND;VALUE=DATE:20250223
DTSTAMP:20260423T153550
CREATED:20241126T235836Z
LAST-MODIFIED:20250211T183329Z
UID:2241-1740182400-1740268799@judomanitoba.mb.ca
SUMMARY:2025 Selkirk Tournament
DESCRIPTION:This tournament is pre-registration only. Registration Closes: February 16\, 2025. \nReferee Registration\nOur tournaments success depends upon the great participation of the volunteer referees\, please sign up via Trackie: https://registration.judocanada.org/event/2025-SelkirkReferee \nReferees of all levels welcome. \nAthlete Registration\nOnline registration for all athletes via Trackie: https://registration.judocanada.org/event/2025-SelkirkOpen \n\nAthletes must have a valid Judo Canada membership\nAthletes may compete in up to two regular divisions if eligible\nAll competitors except for U10 and U12 must be present at the weigh-in.\nNew Requirement for 2024/2025 Judo Season: U10 and U12 athletes must check in at the weigh-in table. A Parent\, Guardian\, or Coach must attest to the accuracy of the weight which has been provided by the club coach\n\nTechnical package and registration
URL:https://judomanitoba.mb.ca/event/2025-selkirk-tournament/
LOCATION:Manitoba
CATEGORIES:Tournaments
END:VEVENT
BEGIN:VEVENT
DTSTART;VALUE=DATE:20250208
DTEND;VALUE=DATE:20250209
DTSTAMP:20260423T153550
CREATED:20241126T235748Z
LAST-MODIFIED:20241222T182456Z
UID:2239-1738972800-1739059199@judomanitoba.mb.ca
SUMMARY:2025 Inner City Tournament
DESCRIPTION:The Inner City tournament will take place Saturday\, February 8\, 2025\, at Tec Voc High School Gym—1555 Wall Street in Winnipeg. \nTournament director: Gary Sova — garysova81@gmail.com; 204-479-8571 \nRegistration information and the full technical package are available on Trackie: https://registration.judocanada.org/event/winnipeg-inner-city-judo-open-2025/1001183/
URL:https://judomanitoba.mb.ca/event/2025-inner-city-tournament/
LOCATION:Tec Voc High School\, 1555 Wall St.\, Winnipeg\, Manitoba\, R3E2S2\, Canada
CATEGORIES:Tournaments
END:VEVENT
BEGIN:VEVENT
DTSTART;VALUE=DATE:20250125
DTEND;VALUE=DATE:20250127
DTSTAMP:20260423T153550
CREATED:20241126T235657Z
LAST-MODIFIED:20241127T000835Z
UID:2237-1737763200-1737935999@judomanitoba.mb.ca
SUMMARY:2025 Sask Open
DESCRIPTION:The 2025 Sask Open will be held in Regina\, SK\, January 25-26\, 2025. \nTechnical Package – Registration Deadline – January 10th\, 2025 \nTrackie registration links: \n\nfor Athletes\nfor Coaches\nfor Referees
URL:https://judomanitoba.mb.ca/event/2025-sask-open/
LOCATION:Regina\, SK\, Regina\, SK\, Canada
CATEGORIES:Tournaments
END:VEVENT
BEGIN:VEVENT
DTSTART;VALUE=DATE:20241201
DTEND;VALUE=DATE:20241202
DTSTAMP:20260423T153550
CREATED:20241113T192104Z
LAST-MODIFIED:20241113T192104Z
UID:2225-1733011200-1733097599@judomanitoba.mb.ca
SUMMARY:Manitoba Provincials 2024
DESCRIPTION:Judo Manitoba is pleased to invite you to compete at the annual Manitoba Open Provincials in Winnipeg\, Manitoba\, Dec 1\, 2024. \nSunday\, Dec 1\, 2024\n9:00 to 10:00 Weigh-ins for U14\, U16\, U18\, U21\, Seniors — at the tournament site\n11:00 Referee Meeting\n11:30 Competition begins \nRegistration\nTHIS IS A PRE-REGISTRATION ONLY TOURNAMENT. Registration Closes Friday November 29th. \nCoach Registration \n\nMinimum NCCP 2 (DI) Trained\nOnly 4 coaches per team/dojo allowed\n\nReferee Registration \n\nOnline registration is mandatory for all referees\nProvincial C minimum to referee\n\nAthlete Registration \n\nOnline registration for all athletes:\n\nFull technical package available on Trackie.
URL:https://judomanitoba.mb.ca/event/manitoba-provincials-2024/
LOCATION:Sport Manitoba Sports Complex\, 145 Pacific Ave\, Winnipeg\, Manitoba\, Canada
CATEGORIES:Tournaments
END:VEVENT
BEGIN:VEVENT
DTSTART;VALUE=DATE:20241026
DTEND;VALUE=DATE:20241028
DTSTAMP:20260423T153550
CREATED:20240724T174622Z
LAST-MODIFIED:20240906T224852Z
UID:2192-1729900800-1730073599@judomanitoba.mb.ca
SUMMARY:Manitoba Open 2024
DESCRIPTION:Save the date—the 2024 Manitoba Open will be held on Oct. 26 – 27\, 2024 in Winnipeg\, MB. \nTechnical Package and Registration \nThere will also be a Kodokan Goshin Jutsu clinic and certification on Thursday\, Oct. 24\, 2024.
URL:https://judomanitoba.mb.ca/event/manitoba-open-2024/
LOCATION:Dakota Fieldhouse\, 1188 Dakota Street\, Winnipeg\, MB\, R2N 3H4\, Canada
CATEGORIES:Tournaments
END:VEVENT
BEGIN:VEVENT
DTSTART;TZID=America/Winnipeg:20240609T173000
DTEND;TZID=America/Winnipeg:20240609T220000
DTSTAMP:20260423T153550
CREATED:20240504T020052Z
LAST-MODIFIED:20240504T020052Z
UID:2169-1717954200-1717970400@judomanitoba.mb.ca
SUMMARY:2024 Judo Manitoba Awards Dinner
DESCRIPTION:On Sunday June 9\, 2024\, Judo Manitoba will hold our annual Awards Dinner at Max’s Restaurant\, 1255 St. James St. \nCocktails at 5:30pm\, dinner at 6:30pm with awards program immediately following. \nTickets for the event are $45.00. Please contact Milton Good (mgood@shaw.ca) or Liz Trueman (judo@sportmanitoba.ca) for tickets.
URL:https://judomanitoba.mb.ca/event/2024-judo-manitoba-awards-dinner/
LOCATION:Max’s Restaurant\, 1255 St. James Street\, Winnipeg\, Manitoba\, Canada
END:VEVENT
BEGIN:VEVENT
DTSTART;TZID=America/Winnipeg:20240609T120000
DTEND;TZID=America/Winnipeg:20240609T143000
DTSTAMP:20260423T153551
CREATED:20240504T015806Z
LAST-MODIFIED:20240504T020129Z
UID:2167-1717934400-1717943400@judomanitoba.mb.ca
SUMMARY:Annual General Meeting 2024
DESCRIPTION:The 2024 Judo Manitoba Annual General Meeting will take place Sunday\, June 9\, at 12pm\, in the Sport Manitoba building\, lower level\, Conference Room A. \nAgenda to come. Note that this is an election year.
URL:https://judomanitoba.mb.ca/event/annual-general-meeting-2024/
LOCATION:Sport Manitoba Sports Complex\, 145 Pacific Ave\, Winnipeg\, Manitoba\, Canada
CATEGORIES:Events
END:VEVENT
BEGIN:VEVENT
DTSTART;VALUE=DATE:20240504
DTEND;VALUE=DATE:20240505
DTSTAMP:20260423T153551
CREATED:20231023T215805Z
LAST-MODIFIED:20240409T134813Z
UID:2073-1714780800-1714867199@judomanitoba.mb.ca
SUMMARY:Nakamura Judo Open 2024
DESCRIPTION:Nakamura Judo Open 2024 Technical Package \nRegistration\nThis tournament is pre-registration only. \nRegistration Opens: April 4th\nRegistration Closes: May 1st \nReferee Registration via Trackie – https://registration.judocanada.org/event/2024-NakamuraReferee \nReferees of all levels welcome. \nAthlete Registration via Trackie – https://registration.judocanada.org/event/2024-NakamuraJudoOpen \n\nAthletes must have a valid Judo Canada membership\nAthletes may compete in up to two regular divisions if eligible\nAll competitors except for U10 and U12 must be present at the weigh-in.\n\nNakamura Judo Open 2024 Technical Package
URL:https://judomanitoba.mb.ca/event/nakamura-judo-open-2024/
LOCATION:West Kildonan Collegiate\, 101 Ridgecrest Avenue\, Winnipeg\, MB\, R2V 4T6\, Canada
CATEGORIES:Tournaments
END:VEVENT
BEGIN:VEVENT
DTSTART;VALUE=DATE:20240413
DTEND;VALUE=DATE:20240414
DTSTAMP:20260423T153551
CREATED:20231023T215710Z
LAST-MODIFIED:20240409T134712Z
UID:2071-1712966400-1713052799@judomanitoba.mb.ca
SUMMARY:Portage Open 2024
DESCRIPTION:Portage Open 2024 Technical Package \nThis tournament is pre-registration only. \nRegistration Opens: March 22\, 2024\nRegistration Closes: April 10\, 2024 \nReferee Registration\n\nOpen to all levels of referee and beginners.\nPlease sign up via Trackie: https://registration.judocanada.org/event/2024-PortageReferee\n\nAthlete Registration\n\nOnline registration for all athletes via Trackie: https://registration.judocanada.org/event/2024-PortageOpen\nAthletes must have a valid Judo Canada membership\nAthletes may compete in up to two regular divisions if eligible\nAll competitors except for U10 and U12 must be present at the weigh-in\nCoaches\, please send U10 and U12 weights in kg. and names to the tournament director by end of day Thursday\, April 11\n\nRegistration Fees\n\n$40 for the first division\n$20 for a second division\nFees are payable by cheque or cash at the time of weigh-in. U10/U12 please check-in\n\nFull details: Portage Open 2024 Technical Package
URL:https://judomanitoba.mb.ca/event/portage-open-2024/
LOCATION:TBA
CATEGORIES:Tournaments
ORGANIZER;CN="Portage Judo Club":MAILTO:bp6265c@inetlink.ca
END:VEVENT
BEGIN:VEVENT
DTSTART;VALUE=DATE:20240323
DTEND;VALUE=DATE:20240324
DTSTAMP:20260423T153551
CREATED:20231023T215624Z
LAST-MODIFIED:20240308T175249Z
UID:2069-1711152000-1711238399@judomanitoba.mb.ca
SUMMARY:Balmoral Open 2024
DESCRIPTION:Technical Package \nAthletes\nThis is a pre-registration tournament; registration closes March 21\, 2024. \nTrackie: Athlete Registration \nReferees\nThis tournament is open to all levels of referee and beginners. This will be a learning experience tournament for beginner referees. All referees just arrive with a white polo shirt and dark pants. No suit required! \nTrackie – Referee registration \nFor more details\, please see the Technical Package.
URL:https://judomanitoba.mb.ca/event/balmoral-open-2024/
LOCATION:TBA
CATEGORIES:Tournaments
ORGANIZER;CN="Balmoral Judo Club":MAILTO:mgood@shaw.ca
END:VEVENT
BEGIN:VEVENT
DTSTART;VALUE=DATE:20240203
DTEND;VALUE=DATE:20240204
DTSTAMP:20260423T153551
CREATED:20231023T215525Z
LAST-MODIFIED:20240125T142705Z
UID:2067-1706918400-1707004799@judomanitoba.mb.ca
SUMMARY:Inner City Open 2024
DESCRIPTION:Important Information\nThis is a pre-registration only tournament. \nRegistration Opens: January 1st\nRegistration Closes: January 31st \nReferee Registration\nOur tournaments success depends upon the great participation of the volunteer\nreferees\, please sign up via Trackie: https://registration.judocanada.org/event/inner-city-judo-tournament-referee-sign-up/1000444/ \nReferees of all levels welcome. \nAthlete Registration\nOnline registration for all athletes on Trackie: https://registration.judocanada.org/event/2024-InnerCityOpen \n\nAthletes must have a valid Judo Canada membership\nAthletes may compete in up to two regular divisions if eligible\nAll competitors except for U10 and U12 must be present at the weigh-in.\n\nCoaches\, please send U10 and U12 weights and names to the tournament director by end of day Thursday Feb 1st. \nFull tournament package may be found on Trackie: https://registration.judocanada.org/event/2024-InnerCityOpen/
URL:https://judomanitoba.mb.ca/event/inner-city-open-2024/
LOCATION:Tec Voc High School\, 1555 Wall St.\, Winnipeg\, Manitoba\, R3E2S2\, Canada
CATEGORIES:Tournaments
ORGANIZER;CN="Inner City Judo Club":MAILTO:garysova81@gmail.com
END:VEVENT
BEGIN:VEVENT
DTSTART;VALUE=DATE:20240120
DTEND;VALUE=DATE:20240121
DTSTAMP:20260423T153551
CREATED:20231023T215435Z
LAST-MODIFIED:20240109T042453Z
UID:2065-1705708800-1705795199@judomanitoba.mb.ca
SUMMARY:Selkirk Open 2023
DESCRIPTION:Important information\nThis tournament is pre-registration only.\nRegistration Opens: January 2\, 2024\nRegistration Closes: January 15\, 2024 \nAthlete Registration: https://registration.judocanada.org/event/2024-SelkirkOpen\nReferee Registration: https://registration.judocanada.org/event/2024-selkirk-open-referee-sign-up/1000443/ \nThe full technical package may be found on Trackie: https://registration.judocanada.org/event/2024-SelkirkOpen \n 
URL:https://judomanitoba.mb.ca/event/selkirk-open-2023/
LOCATION:TBA
CATEGORIES:Tournaments
ORGANIZER;CN="Selkirk Judo Club":MAILTO:selkirkjudoclub@shaw.ca
END:VEVENT
BEGIN:VEVENT
DTSTART;VALUE=DATE:20231210
DTEND;VALUE=DATE:20231211
DTSTAMP:20260423T153551
CREATED:20231023T215236Z
LAST-MODIFIED:20231125T000546Z
UID:2062-1702166400-1702252799@judomanitoba.mb.ca
SUMMARY:Judo Manitoba Provincials 2023
DESCRIPTION:Judo Manitoba is pleased to invite you to compete at the annual Manitoba Open Provincials in Winnipeg\, Manitoba\, on December 10\, 2023. \nKey Contacts: \n\nTournament Director: Milton Good – mgood@shaw.ca\nIT Management: James Colp – james.colp@outlook.com\nChief Referee: Miguel Rueda – Miguel.rueda@aircanada.ca\n\nHosted by Judo Manitoba. \nFull details: Manitoba Provincials Technical Package 2023
URL:https://judomanitoba.mb.ca/event/judo-manitoba-provincials-2023/
LOCATION:TBA
CATEGORIES:Tournaments
END:VEVENT
BEGIN:VEVENT
DTSTART;VALUE=DATE:20231209
DTEND;VALUE=DATE:20231210
DTSTAMP:20260423T153551
CREATED:20231117T234619Z
LAST-MODIFIED:20231117T234619Z
UID:2080-1702080000-1702166399@judomanitoba.mb.ca
SUMMARY:Black Belt Grading
DESCRIPTION:A Black Belt grading will occur on Saturday December 9th at the University of Manitoba.
URL:https://judomanitoba.mb.ca/event/black-belt-grading-2/
LOCATION:University of Manitoba\, University of Manitoba room 136\, Winnipeg\, Manitoba\, Canada
CATEGORIES:Grading
END:VEVENT
BEGIN:VEVENT
DTSTART;VALUE=DATE:20231014
DTEND;VALUE=DATE:20231016
DTSTAMP:20260423T153551
CREATED:20230719T214435Z
LAST-MODIFIED:20231006T231042Z
UID:2028-1697241600-1697414399@judomanitoba.mb.ca
SUMMARY:2023 Manitoba Open
DESCRIPTION:Judo Manitoba is pleased to invite you to compete at the annual Manitoba Open in Winnipeg\, Manitoba\, Oct 13-15\, 2023. \nWinnipeg is brimming with culture\, arts\, sports\, and entertainment. Located in the middle of the continent\, you could call us the heart of North America — as we pride ourselves on being Canada’s cultural center where live music\, vibrant neighborhoods\, enticing dining\, shopping\, fabulous festivals\, and world-class attractions await to be explored. \nExperience our diverse\, cosmopolitan city that offers all the amenities you expect from a big city in an easy- going atmosphere. Whether you are applauding the frolicking polar bears swimming above you at Assiniboine Park Zoo’s Journey to Churchill experience\, marveling at the awe-inspiring Canadian Museum for Human Rights or visiting Manitoba’s number one attraction\, The Forks\, Winnipeg has something for everyone. \nKindly refer to the event information and details follow in the attached technical package and please assist with respecting the deadlines for registration and competition details. \n— \nJudo Manitoba a le plaisir de vous inviter à participer à l’Open annuel du Manitoba à Winnipeg\, au Manitoba\, Oct13-15\, 2023. \nWinnipeg regorge de culture\, d’arts\, de sports et de divertissements. Situés au milieu du continent\, vous pourriez nous appeler le cœur de l’Amérique du Nord\, car nous sommes fiers d’être le centre culturel du Canada où de la musique live\, des quartiers animés\, des restaurants alléchants\, des boutiques\, des festivals fabuleux et des attractions de classe mondiale ne demandent qu’à être explorés. \nDécouvrez notre ville diversifiée et cosmopolite qui offre toutes les commodités que vous attendez d’une grande ville dans une atmosphère décontractée. Que vous applaudissiez les ours polaires qui s’ébattent au-dessus de vous lors de l’expérience « Journey to Churchill » du zoo du parc Assiniboine\, que vous vous émerveillez devant l’impressionnant Musée canadien pour les droits de la personne ou que vous visitiez l’attraction numéro un du Manitoba\, La Fourche\, Winnipeg a quelque chose pour tout le monde. \nJe vous remercie de vous référer aux informations et aux détails de l’événement qui suivent dans ce devis technique en respectant les délais d’inscription et les détails du tournoi. \nWarm regards / Cordialement vôtre\, \nMilton Good\nPresident\, Judo Manitoba \nManitoba Open Technical Package \nManitoba Open Kata Clinic \nUpdate: Special pricing from JudoCanada.TV for livestreaming of  the event.
URL:https://judomanitoba.mb.ca/event/2023-manitoba-open/
LOCATION:Dakota Fieldhouse\, 1188 Dakota Street\, Winnipeg\, MB\, R2N 3H4\, Canada
CATEGORIES:Tournaments
END:VEVENT
BEGIN:VEVENT
DTSTART;VALUE=DATE:20230802
DTEND;VALUE=DATE:20230804
DTSTAMP:20260423T153551
CREATED:20220708T122449Z
LAST-MODIFIED:20221102T182019Z
UID:1846-1690934400-1691107199@judomanitoba.mb.ca
SUMMARY:World Police & Fire Games 2023
DESCRIPTION:
URL:https://judomanitoba.mb.ca/event/world-police-fire-games-2023/
LOCATION:RBC Convention Centre\, 375 York Avenue\, Winnipeg\, Manitoba\, R3C 3J3\, Canada
CATEGORIES:Tournaments
END:VEVENT
BEGIN:VEVENT
DTSTART;VALUE=DATE:20230518
DTEND;VALUE=DATE:20230522
DTSTAMP:20260423T153551
CREATED:20221102T182405Z
LAST-MODIFIED:20221102T182405Z
UID:1917-1684368000-1684713599@judomanitoba.mb.ca
SUMMARY:Canadian Nationals
DESCRIPTION:More info to come.
URL:https://judomanitoba.mb.ca/event/canadian-nationals/
LOCATION:Manitoba
CATEGORIES:Tournaments
END:VEVENT
BEGIN:VEVENT
DTSTART;VALUE=DATE:20230422
DTEND;VALUE=DATE:20230423
DTSTAMP:20260423T153551
CREATED:20221102T182235Z
LAST-MODIFIED:20230320T171153Z
UID:1915-1682121600-1682207999@judomanitoba.mb.ca
SUMMARY:Portage Open
DESCRIPTION:The 2023 Portage Judo Club Open is being held on April 22nd  at the BDO Community Centre in Portage la Prairie. \nAll pertinent information is in the Technical Package so please review it carefully. \nRegistration is now open so please register at your earliest convenience using the following Trackie link  https://www.trackie.com/online-registration/register/2023-portage-la-prairie-open-judo-tournament/487384/ \n2023 Portage Open Technical Package \n 
URL:https://judomanitoba.mb.ca/event/portage-open/
LOCATION:BDO Centre for the Community\, 390 1st Street N.W.\, Portage la Prarie\, Manitoba\, Canada
CATEGORIES:Tournaments
ORGANIZER;CN="Portage Judo Club":MAILTO:bp6265c@inetlink.ca
END:VEVENT
BEGIN:VEVENT
DTSTART;TZID=America/Winnipeg:20230415T080000
DTEND;TZID=America/Winnipeg:20230416T160000
DTSTAMP:20260423T153551
CREATED:20230308T005555Z
LAST-MODIFIED:20230308T005555Z
UID:1984-1681545600-1681660800@judomanitoba.mb.ca
SUMMARY:Kata Clinic + Kata Judge Certification
DESCRIPTION:Schedule\nSaturday\, April 15\n8:00am to 12:00pm: Nage no kata \n12:00pm to 1:00pm: Lunch \n1:00 to 4:00: Nage no kata and Presentations Review \nSunday\, April 16\n8:00am to 12:00pm: Katame no kata \n12:00pm to 1:00pm: Lunch \n1:00pm to 2:00pm: Presentations Review \n2:00pm to 4:00pm: Exam and oral interviews \nFees\nJudges Certification:  $75.00 per kata \nClinic participants:  $40.00 \nRank Requirements\nCertification candidates: Minimum brown belt (ikkyu) \nClinic participants: No minimum rank (all ranks welcome) \nNote: All Certification candidates must submit a video to mohdia@sympatico.ca no later than April 3; the candidate must perform the particular kata (based on their registration) as tori.
URL:https://judomanitoba.mb.ca/event/kata-clinic-kata-judge-certification/
LOCATION:Provincial Training Centre\, 439 McPhillips St.\, Winnipeg\, Manitoba\, R2X2Z8\, Canada
END:VEVENT
END:VCALENDAR