BEGIN:VCALENDAR
VERSION:2.0
PRODID:-//Judo Manitoba - ECPv6.15.20//NONSGML v1.0//EN
CALSCALE:GREGORIAN
METHOD:PUBLISH
X-WR-CALNAME:Judo Manitoba
X-ORIGINAL-URL:https://judomanitoba.mb.ca
X-WR-CALDESC:Events for Judo Manitoba
REFRESH-INTERVAL;VALUE=DURATION:PT1H
X-Robots-Tag:noindex
X-PUBLISHED-TTL:PT1H
BEGIN:VTIMEZONE
TZID:America/Winnipeg
BEGIN:DAYLIGHT
TZOFFSETFROM:-0600
TZOFFSETTO:-0500
TZNAME:CDT
DTSTART:20250309T080000
END:DAYLIGHT
BEGIN:STANDARD
TZOFFSETFROM:-0500
TZOFFSETTO:-0600
TZNAME:CST
DTSTART:20251102T070000
END:STANDARD
BEGIN:DAYLIGHT
TZOFFSETFROM:-0600
TZOFFSETTO:-0500
TZNAME:CDT
DTSTART:20260308T080000
END:DAYLIGHT
BEGIN:STANDARD
TZOFFSETFROM:-0500
TZOFFSETTO:-0600
TZNAME:CST
DTSTART:20261101T070000
END:STANDARD
BEGIN:DAYLIGHT
TZOFFSETFROM:-0600
TZOFFSETTO:-0500
TZNAME:CDT
DTSTART:20270314T080000
END:DAYLIGHT
BEGIN:STANDARD
TZOFFSETFROM:-0500
TZOFFSETTO:-0600
TZNAME:CST
DTSTART:20271107T070000
END:STANDARD
END:VTIMEZONE
BEGIN:VEVENT
DTSTART;TZID=America/Winnipeg:20260425T090000
DTEND;TZID=America/Winnipeg:20260426T140000
DTSTAMP:20260423T183906
CREATED:20260413T175627Z
LAST-MODIFIED:20260413T175627Z
UID:2683-1777107600-1777212000@judomanitoba.mb.ca
SUMMARY:Dojo Instructor Course
DESCRIPTION:There will be a Dojo Instructor course offered on April 25 – 26\, 2026.  Registration is now open at https://thelocker.coach.ca/event/registration/15188 \n  \nThe course details are: \nSchedule – April 25 from 9 am – 5 pm and April 26 from 9 am – 2 pm \nFacility – Provincial Training Centre at 439 McPhillips Street\, Winnipeg \nCost – $250 \nRegistration deadline – April 15\, 2026 \n  \nPrerequisites for the course are: \n\nMinimum age of 18.\nMinimum rank of Brown belt with a working knowledge of the judo techniques included in the Judo Canada Kyu syllabus.\nComplete the on-line “Nutrition for Judo Coaches” E-learning module available at:http://www.judocanada.org/introduction-to-nutrition/ \nTrained DA or Trained Community Coach.\nSterling Backcheck for all Candidates coaches who are 18 years old and older via Sterling agency – for details see:https://www.sterlingtalentsolutions.ca/landingpages/j/judo-canada/.  The Backcheck is required only if the length of time between the check done for the DA was done more than 3 years earlier.  \n\n  \nIf you have any questions\, please contact Brian Jones at selkirkjudoclub@shaw.ca
URL:https://judomanitoba.mb.ca/event/dojo-instructor-course/
LOCATION:Provincial Training Centre\, 439 McPhillips St.\, Winnipeg\, Manitoba\, R2X2Z8\, Canada
END:VEVENT
BEGIN:VEVENT
DTSTART;VALUE=DATE:20260502
DTEND;VALUE=DATE:20260503
DTSTAMP:20260423T183906
CREATED:20250925T225455Z
LAST-MODIFIED:20260323T165231Z
UID:2516-1777680000-1777766399@judomanitoba.mb.ca
SUMMARY:Nakamura Judo Club Tournament
DESCRIPTION:Technical Package: https://registration.judocanada.org/event/nakamura-judo-club-open/1004554/ \nReferee Registration: https://registration.judocanada.org/event/nakamura-judo-club-open-referee-registration/1004555/
URL:https://judomanitoba.mb.ca/event/nakamura-judo-club-tournament/
LOCATION:Manitoba
END:VEVENT
BEGIN:VEVENT
DTSTART;TZID=America/Winnipeg:20260509T083000
DTEND;TZID=America/Winnipeg:20260509T100000
DTSTAMP:20260423T183906
CREATED:20260413T180757Z
LAST-MODIFIED:20260413T180757Z
UID:2688-1778315400-1778320800@judomanitoba.mb.ca
SUMMARY:Nage-no-Kata Clinic
DESCRIPTION:Judo Manitoba will be hosting a Nage-no-Kata Clinic for U14/U16/U18/U21 and senior athletes as well as anyone planning on attending the June Black Belt grading\, on Saturday May 9\, 2026 at the University of Manitoba Combative’s Room.\n\nThe Kata clinic will run from 8:30 – 10:00 am and will be facilitated by Gary Robinson\, Miguel Rueda\, Sonia Christ\, and Matthew Koss. Judo Manitoba will not be charging for this session however the University of Manitoba does charge a $10.00 guest fee payable at the front desk for those that are not registered at the U of M.
URL:https://judomanitoba.mb.ca/event/nage-no-kata-clinic-3/
LOCATION:University of Manitoba\, University of Manitoba room 136\, Winnipeg\, Manitoba\, Canada
END:VEVENT
BEGIN:VEVENT
DTSTART;VALUE=DATE:20260606
DTEND;VALUE=DATE:20260607
DTSTAMP:20260423T183906
CREATED:20260413T180328Z
LAST-MODIFIED:20260413T180328Z
UID:2686-1780704000-1780790399@judomanitoba.mb.ca
SUMMARY:Black Belt Grading
DESCRIPTION:
URL:https://judomanitoba.mb.ca/event/black-belt-grading-4/
LOCATION:Manitoba
END:VEVENT
BEGIN:VEVENT
DTSTART;TZID=America/Winnipeg:20260607T120000
DTEND;TZID=America/Winnipeg:20260607T180000
DTSTAMP:20260423T183906
CREATED:20260420T203018Z
LAST-MODIFIED:20260420T203018Z
UID:2694-1780833600-1780855200@judomanitoba.mb.ca
SUMMARY:Annual General Meeting
DESCRIPTION:MANITOBA BLACK BELT ASSOCIATION ANNUAL GENERAL MEETING \nThe meeting is open to all paid members of Judo Manitoba\, 18 years and up regardless of belt level. \nLocation: \nSport Manitoba Building Lower Level \nConference Room A \n145 Pacific Ave \nTime: \nSunday\, June 7\, 2026 at 12:00 PM \nAgenda: \n\nA report of the Directors;\nCommittee Reports;\nStatement of Income and Expenditures and Accountant’s Report;\nFor the consideration of and\, if approved\, ratification of all by-laws\, contracts\, acts and proceedings of the Board of Directors of the Corporation enacted\, made\, done and taken since the last meeting of the Members;\nFor the appointment of Auditors;\nFor the election of Officers and Directors;\n\nFor the transaction of such other business as many properly come before the meeting.
URL:https://judomanitoba.mb.ca/event/annual-general-meeting/
LOCATION:Sport Manitoba Sports Complex\, 145 Pacific Ave\, Winnipeg\, Manitoba\, Canada
END:VEVENT
BEGIN:VEVENT
DTSTART;TZID=America/Winnipeg:20260607T180000
DTEND;TZID=America/Winnipeg:20260607T235900
DTSTAMP:20260423T183906
CREATED:20260119T183835Z
LAST-MODIFIED:20260420T202848Z
UID:2610-1780855200-1780876740@judomanitoba.mb.ca
SUMMARY:Awards Banquet
DESCRIPTION:A buffet dinner will take place at The Holiday Inn Winnipeg South\, 1330 Pembina Highway with cocktails at 6pm\, dinner at 6:30pm and the awards program immediately following. \nSo we can plan accordingly\, we will need to know in advance if there are any allergies or dietary restrictions including vegetarian. **please email this directly to Liz ( judo@sportmanitoba.ca). \nTickets for the event are $55.00. Please contact Milton at mgood@shaw.ca or 204-404-5510 or Liz at judo@sportmanitoba.ca for tickets\, etransfers are preferred. Deadline for ticket purchase is May 31\, 2025.
URL:https://judomanitoba.mb.ca/event/agm-and-awards-banquet/
LOCATION:Manitoba
END:VEVENT
END:VCALENDAR