BEGIN:VCALENDAR
VERSION:2.0
PRODID:-//Judo Manitoba - ECPv6.15.20//NONSGML v1.0//EN
CALSCALE:GREGORIAN
METHOD:PUBLISH
X-ORIGINAL-URL:https://judomanitoba.mb.ca
X-WR-CALDESC:Events for Judo Manitoba
REFRESH-INTERVAL;VALUE=DURATION:PT1H
X-Robots-Tag:noindex
X-PUBLISHED-TTL:PT1H
BEGIN:VTIMEZONE
TZID:America/Winnipeg
BEGIN:DAYLIGHT
TZOFFSETFROM:-0600
TZOFFSETTO:-0500
TZNAME:CDT
DTSTART:20240310T080000
END:DAYLIGHT
BEGIN:STANDARD
TZOFFSETFROM:-0500
TZOFFSETTO:-0600
TZNAME:CST
DTSTART:20241103T070000
END:STANDARD
BEGIN:DAYLIGHT
TZOFFSETFROM:-0600
TZOFFSETTO:-0500
TZNAME:CDT
DTSTART:20250309T080000
END:DAYLIGHT
BEGIN:STANDARD
TZOFFSETFROM:-0500
TZOFFSETTO:-0600
TZNAME:CST
DTSTART:20251102T070000
END:STANDARD
BEGIN:DAYLIGHT
TZOFFSETFROM:-0600
TZOFFSETTO:-0500
TZNAME:CDT
DTSTART:20260308T080000
END:DAYLIGHT
BEGIN:STANDARD
TZOFFSETFROM:-0500
TZOFFSETTO:-0600
TZNAME:CST
DTSTART:20261101T070000
END:STANDARD
END:VTIMEZONE
BEGIN:VEVENT
DTSTART;VALUE=DATE:20250301
DTEND;VALUE=DATE:20250303
DTSTAMP:20260424T001739
CREATED:20241127T000118Z
LAST-MODIFIED:20241127T000118Z
UID:2243-1740787200-1740959999@judomanitoba.mb.ca
SUMMARY:2025 Pacific International Tournament
DESCRIPTION:Technical package to come.
URL:https://judomanitoba.mb.ca/event/2025-pacific-international-tournament/
LOCATION:Abbotsford\, BC\, Abbotsford\, BC\, Canada
CATEGORIES:Tournaments
END:VEVENT
BEGIN:VEVENT
DTSTART;VALUE=DATE:20250307
DTEND;VALUE=DATE:20250310
DTSTAMP:20260424T001739
CREATED:20241127T000312Z
LAST-MODIFIED:20241127T000312Z
UID:2246-1741305600-1741564799@judomanitoba.mb.ca
SUMMARY:2025 Edmonton International Judo & Kata Championship
DESCRIPTION:Tournament web page.
URL:https://judomanitoba.mb.ca/event/2025-edmonton-international-judo-kata-championship/
LOCATION:Edmonton\, AB\, Edmonton\, Alberta\, Canada
CATEGORIES:Tournaments
END:VEVENT
BEGIN:VEVENT
DTSTART;VALUE=DATE:20250329
DTEND;VALUE=DATE:20250330
DTSTAMP:20260424T001739
CREATED:20241127T000356Z
LAST-MODIFIED:20250305T184452Z
UID:2248-1743206400-1743292799@judomanitoba.mb.ca
SUMMARY:2025 Balmoral Tournament
DESCRIPTION:This is a pre-registration tournament.\nRegistration deadline: March 26\, 2025.\n$40 for 1st division; $20 for 2nd division. \nCoaches\, please send U10 and U12 names and weights (in kg.) to the tournament director by end of day Thursday\, March 27th. \nAthlete registration\nReferee registration \nFull technical package
URL:https://judomanitoba.mb.ca/event/2025-balmoral-tournament/
LOCATION:Stonewall Collegiate\, 297 5 St W\, Stonewall\, MB\, R0C 2Z0\, Canada
CATEGORIES:Tournaments
ORGANIZER;CN="Balmoral Judo Club":MAILTO:mgood@shaw.ca
END:VEVENT
END:VCALENDAR