BEGIN:VCALENDAR
VERSION:2.0
PRODID:-//Judo Manitoba - ECPv6.15.20//NONSGML v1.0//EN
CALSCALE:GREGORIAN
METHOD:PUBLISH
X-ORIGINAL-URL:https://judomanitoba.mb.ca
X-WR-CALDESC:Events for Judo Manitoba
REFRESH-INTERVAL;VALUE=DURATION:PT1H
X-Robots-Tag:noindex
X-PUBLISHED-TTL:PT1H
BEGIN:VTIMEZONE
TZID:America/Winnipeg
BEGIN:DAYLIGHT
TZOFFSETFROM:-0600
TZOFFSETTO:-0500
TZNAME:CDT
DTSTART:20250309T080000
END:DAYLIGHT
BEGIN:STANDARD
TZOFFSETFROM:-0500
TZOFFSETTO:-0600
TZNAME:CST
DTSTART:20251102T070000
END:STANDARD
BEGIN:DAYLIGHT
TZOFFSETFROM:-0600
TZOFFSETTO:-0500
TZNAME:CDT
DTSTART:20260308T080000
END:DAYLIGHT
BEGIN:STANDARD
TZOFFSETFROM:-0500
TZOFFSETTO:-0600
TZNAME:CST
DTSTART:20261101T070000
END:STANDARD
BEGIN:DAYLIGHT
TZOFFSETFROM:-0600
TZOFFSETTO:-0500
TZNAME:CDT
DTSTART:20270314T080000
END:DAYLIGHT
BEGIN:STANDARD
TZOFFSETFROM:-0500
TZOFFSETTO:-0600
TZNAME:CST
DTSTART:20271107T070000
END:STANDARD
END:VTIMEZONE
BEGIN:VEVENT
DTSTART;VALUE=DATE:20260207
DTEND;VALUE=DATE:20260208
DTSTAMP:20260423T125658
CREATED:20250925T225215Z
LAST-MODIFIED:20260104T163002Z
UID:2509-1770422400-1770508799@judomanitoba.mb.ca
SUMMARY:Inner City Judo Club Tournament
DESCRIPTION:Athlete Registration: https://registration.judocanada.org/event/2026-InnerCityOpen\nReferee Registration: https://registration.judocanada.org/event/2026-InnerCityReferee
URL:https://judomanitoba.mb.ca/event/inner-city-tournament/
LOCATION:Manitoba
END:VEVENT
BEGIN:VEVENT
DTSTART;VALUE=DATE:20260220
DTEND;VALUE=DATE:20260223
DTSTAMP:20260423T125658
CREATED:20251231T235923Z
LAST-MODIFIED:20251231T235923Z
UID:2606-1771545600-1771804799@judomanitoba.mb.ca
SUMMARY:Women's Self-Defence Instructor Course
DESCRIPTION:Certification for the Women’s Self-Defence Instructor Course with Daniela Krukower. \nRegistration: https://registration.judocanada.org/event/self-defence-certification-level-1-winnipeg/1004340/\nInformation: https://judocanada.org/events/self-defence-certification-level-1-winnipeg/
URL:https://judomanitoba.mb.ca/event/womens-self-defence-instructor-course/
LOCATION:Provincial Training Centre\, 439 McPhillips St.\, Winnipeg\, Manitoba\, R2X2Z8\, Canada
END:VEVENT
END:VCALENDAR