BEGIN:VCALENDAR
VERSION:2.0
PRODID:-//Judo Manitoba - ECPv6.15.20//NONSGML v1.0//EN
CALSCALE:GREGORIAN
METHOD:PUBLISH
X-ORIGINAL-URL:https://judomanitoba.mb.ca
X-WR-CALDESC:Events for Judo Manitoba
REFRESH-INTERVAL;VALUE=DURATION:PT1H
X-Robots-Tag:noindex
X-PUBLISHED-TTL:PT1H
BEGIN:VTIMEZONE
TZID:America/Winnipeg
BEGIN:DAYLIGHT
TZOFFSETFROM:-0600
TZOFFSETTO:-0500
TZNAME:CDT
DTSTART:20250309T080000
END:DAYLIGHT
BEGIN:STANDARD
TZOFFSETFROM:-0500
TZOFFSETTO:-0600
TZNAME:CST
DTSTART:20251102T070000
END:STANDARD
BEGIN:DAYLIGHT
TZOFFSETFROM:-0600
TZOFFSETTO:-0500
TZNAME:CDT
DTSTART:20260308T080000
END:DAYLIGHT
BEGIN:STANDARD
TZOFFSETFROM:-0500
TZOFFSETTO:-0600
TZNAME:CST
DTSTART:20261101T070000
END:STANDARD
BEGIN:DAYLIGHT
TZOFFSETFROM:-0600
TZOFFSETTO:-0500
TZNAME:CDT
DTSTART:20270314T080000
END:DAYLIGHT
BEGIN:STANDARD
TZOFFSETFROM:-0500
TZOFFSETTO:-0600
TZNAME:CST
DTSTART:20271107T070000
END:STANDARD
END:VTIMEZONE
BEGIN:VEVENT
DTSTART;TZID=America/Winnipeg:20260417T133000
DTEND;TZID=America/Winnipeg:20260508T153000
DTSTAMP:20260423T114251
CREATED:20260413T000009Z
LAST-MODIFIED:20260413T000009Z
UID:2667-1776432600-1778254200@judomanitoba.mb.ca
SUMMARY:Women's Self-Defence Course
DESCRIPTION:
URL:https://judomanitoba.mb.ca/event/womens-self-defence-course/
LOCATION:BP Judo Club\, 1000 Notre Dame\, Winnipeg\, Manitoba\, R3E 0N3\, Canada
END:VEVENT
BEGIN:VEVENT
DTSTART;VALUE=DATE:20260502
DTEND;VALUE=DATE:20260503
DTSTAMP:20260423T114251
CREATED:20250925T225455Z
LAST-MODIFIED:20260323T165231Z
UID:2516-1777680000-1777766399@judomanitoba.mb.ca
SUMMARY:Nakamura Judo Club Tournament
DESCRIPTION:Technical Package: https://registration.judocanada.org/event/nakamura-judo-club-open/1004554/ \nReferee Registration: https://registration.judocanada.org/event/nakamura-judo-club-open-referee-registration/1004555/
URL:https://judomanitoba.mb.ca/event/nakamura-judo-club-tournament/
LOCATION:Manitoba
END:VEVENT
BEGIN:VEVENT
DTSTART;TZID=America/Winnipeg:20260509T083000
DTEND;TZID=America/Winnipeg:20260509T100000
DTSTAMP:20260423T114251
CREATED:20260413T180757Z
LAST-MODIFIED:20260413T180757Z
UID:2688-1778315400-1778320800@judomanitoba.mb.ca
SUMMARY:Nage-no-Kata Clinic
DESCRIPTION:Judo Manitoba will be hosting a Nage-no-Kata Clinic for U14/U16/U18/U21 and senior athletes as well as anyone planning on attending the June Black Belt grading\, on Saturday May 9\, 2026 at the University of Manitoba Combative’s Room.\n\nThe Kata clinic will run from 8:30 – 10:00 am and will be facilitated by Gary Robinson\, Miguel Rueda\, Sonia Christ\, and Matthew Koss. Judo Manitoba will not be charging for this session however the University of Manitoba does charge a $10.00 guest fee payable at the front desk for those that are not registered at the U of M.
URL:https://judomanitoba.mb.ca/event/nage-no-kata-clinic-3/
LOCATION:University of Manitoba\, University of Manitoba room 136\, Winnipeg\, Manitoba\, Canada
END:VEVENT
END:VCALENDAR